BEGIN:VCALENDAR
VERSION:2.0
PRODID:gruene-hambergen.de
METHOD:PUBLISH
BEGIN:VTIMEZONE
TZID:Europe/Berlin
X-LIC-LOCATION:Europe/Berlin
BEGIN:DAYLIGHT
TZOFFSETFROM:+0100
TZOFFSETTO:+0200
TZNAME:CEST
DTSTART:19700329T020000
RRULE:FREQ=YEARLY;INTERVAL=1;BYDAY=-1SU;BYMONTH=3
END:DAYLIGHT
BEGIN:STANDARD
TZOFFSETFROM:+0200
TZOFFSETTO:+0100
TZNAME:CET
DTSTART:19701025T030000
RRULE:FREQ=YEARLY;INTERVAL=1;BYDAY=-1SU;BYMONTH=10
END:STANDARD
END:VTIMEZONE
BEGIN:VEVENT
UID:64eb198b200445eef708b65da4f46542@gruene-hambergen.de
URL;VALUE=URI:https://gruene-hambergen.de/termine/hamberger-ov-stammtisch
 /
LOCATION:
SUMMARY:Hamberger OV Stammtisch
DESCRIPTION;ALTREP="data:text/html,versuch":versuch
CLASS:PUBLIC
DTSTART;TZID=Europe/Berlin:20210223T113000
DTEND;TZID=Europe/Berlin:20210223T120000
DTSTAMP:20260421T101042
END:VEVENT
END:VCALENDAR