BEGIN:VCALENDAR
VERSION:2.0
PRODID:gruene-hambergen.de
METHOD:PUBLISH
BEGIN:VTIMEZONE
TZID:Europe/Berlin
X-LIC-LOCATION:Europe/Berlin
BEGIN:DAYLIGHT
TZOFFSETFROM:+0100
TZOFFSETTO:+0200
TZNAME:CEST
DTSTART:19700329T020000
RRULE:FREQ=YEARLY;INTERVAL=1;BYDAY=-1SU;BYMONTH=3
END:DAYLIGHT
BEGIN:STANDARD
TZOFFSETFROM:+0200
TZOFFSETTO:+0100
TZNAME:CET
DTSTART:19701025T030000
RRULE:FREQ=YEARLY;INTERVAL=1;BYDAY=-1SU;BYMONTH=10
END:STANDARD
END:VTIMEZONE
BEGIN:VEVENT
UID:fd02f3cf6863ee51fbc5c78bc17e6e8b@gruene-hambergen.de
URL;VALUE=URI:https://gruene-hambergen.de/termine/jahreshauptversammlung-
 2025/
LOCATION:1. Begrüßung und Feststellung der Tagesordnung 2. Vorstandsber
 icht über das vergangene Jahr Aussprache 3. Entlastung des Vorstandes 4.
  Neuwahl des Vorstandes a. Wahl einer Versammlungsleiter*in für die Vors
 tandswahl b. Wahlvorschläge einholen (Wir hatten festgelegt, dass es 4 V
 orstands-mitglieder gibt) c. Geheime Wahl (für die Wahl in den Vorstand 
 ist die einfache Mehrheit der Anwesenden notwendig) d. Feststellung des E
 rgebnisses 5. Diskussion über aktuelle politische Entwicklungen (Ukraine
 krieg / Klimakrise / etc) 6. Bericht aus dem Rat 7. Bericht aus dem Kreis
 vorstand, Bahnhof Str. 2, Hambergen
SUMMARY:Jahreshauptversammlung 2025
DESCRIPTION;ALTREP="data:text/html,%0A%3Cp%3EAn%20diesem%20Termin%20muss%
 20der%20OV-Vorstand%20neu%20gew%C3%A4hlt%20werden.%20Deshalb%20ist%20eine
 %20formale%20Agenda%20notwendig.%3C%2Fp%3E%0A%0A%0A%0A%3Col%20class%3D%22
 wp-block-list%22%3E%0A%3Cli%3EBegr%C3%BC%C3%9Fung%20und%20Feststellung%20
 der%20Tagesordnung%3C%2Fli%3E%0A%0A%0A%0A%3Cli%3EBeschlussf%C3%A4higkeit%
 20und%20Feststellung%20%C3%BCber%20Geladene%20Mitglieder%3C%2Fli%3E%0A%0A
 %0A%0A%3Cli%3EVorstandsbericht%20%C3%BCber%20das%20vergangene%20Jahr%3Cbr
 %3EAussprache%3C%2Fli%3E%0A%0A%0A%0A%3Cli%3EEntlastung%20des%20Vorstandes
 %3C%2Fli%3E%0A%0A%0A%0A%3Cli%3ENeuwahl%20des%20Vorstandes%0A%3Cul%20class
 %3D%22wp-block-list%22%3E%0A%3Cli%3EWahl%20einer%20Versammlungsleiter%2Ai
 n%20f%C3%BCr%20die%20Vorstandswahl%3C%2Fli%3E%0A%0A%0A%0A%3Cli%3EWahlvors
 chl%C3%A4ge%20einholen%3C%2Fli%3E%0A%0A%0A%0A%3Cli%3EGeheime%20Wahl%20%28
 f%C3%BCr%20die%20Wahl%20in%20den%20Vorstand%20ist%20die%20einfache%20Mehr
 heit%20der%20Anwesenden%20notwendig%29%3C%2Fli%3E%0A%0A%0A%0A%3Cli%3EFest
 stellung%20des%20Ergebnisses%3C%2Fli%3E%0A%3C%2Ful%3E%0A%3C%2Fli%3E%0A%0A
 %0A%0A%3Cli%3EDiskussion%20%C3%BCber%20aktuelle%20politische%20Entwicklun
 gen%3C%2Fli%3E%0A%0A%0A%0A%3Cli%3EBericht%20aus%20dem%20Rat%3C%2Fli%3E%0A
 %0A%0A%0A%3Cli%3EBericht%20aus%20dem%20Kreisvorstand%3C%2Fli%3E%0A%3C%2Fo
 l%3E%0A":An diesem Termin muss der OV-Vorstand neu gewählt werden. Desha
 lb ist eine formale Agenda notwendig.\n\nBegrüßung und Feststellung der
  Tagesordnung\n\nBeschlussfähigkeit und Feststellung über Geladene Mitg
 lieder\n\nVorstandsbericht über das vergangene JahrAussprache\n\nEntlast
 ung des Vorstandes\n\nNeuwahl des Vorstandes\n\nWahl einer Versammlungsle
 iter*in für die Vorstandswahl\n\nWahlvorschläge einholen\n\nGeheime Wah
 l (für die Wahl in den Vorstand ist die einfache Mehrheit der Anwesenden
  notwendig)\n\nFeststellung des Ergebnisses\n\nDiskussion über aktuelle 
 politische Entwicklungen\n\nBericht aus dem Rat\n\nBericht aus dem Kreisv
 orstand
CLASS:PUBLIC
DTSTART;TZID=Europe/Berlin:20250403T190000
DTEND;TZID=Europe/Berlin:20250403T210000
DTSTAMP:20260420T035936
END:VEVENT
END:VCALENDAR